BEGIN:VCALENDAR
VERSION:2.0
PRODID:-//No Alibis Bookstore - ECPv6.15.20//NONSGML v1.0//EN
CALSCALE:GREGORIAN
METHOD:PUBLISH
X-WR-CALNAME:No Alibis Bookstore
X-ORIGINAL-URL:https://noalibis.com
X-WR-CALDESC:Events for No Alibis Bookstore
REFRESH-INTERVAL;VALUE=DURATION:PT1H
X-Robots-Tag:noindex
X-PUBLISHED-TTL:PT1H
BEGIN:VTIMEZONE
TZID:Europe/London
BEGIN:DAYLIGHT
TZOFFSETFROM:+0000
TZOFFSETTO:+0100
TZNAME:BST
DTSTART:20230326T010000
END:DAYLIGHT
BEGIN:STANDARD
TZOFFSETFROM:+0100
TZOFFSETTO:+0000
TZNAME:GMT
DTSTART:20231029T010000
END:STANDARD
BEGIN:DAYLIGHT
TZOFFSETFROM:+0000
TZOFFSETTO:+0100
TZNAME:BST
DTSTART:20240331T010000
END:DAYLIGHT
BEGIN:STANDARD
TZOFFSETFROM:+0100
TZOFFSETTO:+0000
TZNAME:GMT
DTSTART:20241027T010000
END:STANDARD
BEGIN:DAYLIGHT
TZOFFSETFROM:+0000
TZOFFSETTO:+0100
TZNAME:BST
DTSTART:20250330T010000
END:DAYLIGHT
BEGIN:STANDARD
TZOFFSETFROM:+0100
TZOFFSETTO:+0000
TZNAME:GMT
DTSTART:20251026T010000
END:STANDARD
END:VTIMEZONE
BEGIN:VEVENT
DTSTART;TZID=Europe/London:20241214T110000
DTEND;TZID=Europe/London:20241214T123000
DTSTAMP:20260421T122951
CREATED:20240815T092448Z
LAST-MODIFIED:20240829T144630Z
UID:8133-1734174000-1734179400@noalibis.com
SUMMARY:Oliver Jeffers - Where to Hide a Star - Book Signing
DESCRIPTION:Join Us for a Book Signing with Oliver Jeffers\nSaturday 14th December 11am – 12.30pm\n \nReserve your FREE space here \nCelebrate twenty years of The Boy in this highly anticipated new adventure from the internationally bestselling picture book creator of Lost and Found\, Oliver Jeffers! \nOnce there was a boy who would often play hide-and-seek with his friends the star and the penguin. The star was always easy to find\, but one day it went missing. So\, the boy radioed the Martian for help and soon found himself on an exciting spaceship rescue mission to the North Pole! But there\, he discovered that he wasn’t the only one who had always dreamed of having a star as a friend… The out-of-this-world\, long-awaited sequel to the much-loved Boy stories\, loved all around the world – now introducing a brand-new character! \n \nPhoto Credit – Yasmina Cowan \n 
URL:https://noalibis.com/event/oliver-jeffers-where-to-hide-a-star-book-signing/
LOCATION:No Alibis Bookstore\, 83 Botanic Avenue\, Belfast\, BT7 1JL\, United Kingdom
END:VEVENT
END:VCALENDAR