BEGIN:VCALENDAR
VERSION:2.0
PRODID:-//No Alibis Bookstore - ECPv6.15.20//NONSGML v1.0//EN
CALSCALE:GREGORIAN
METHOD:PUBLISH
X-ORIGINAL-URL:https://noalibis.com
X-WR-CALDESC:Events for No Alibis Bookstore
REFRESH-INTERVAL;VALUE=DURATION:PT1H
X-Robots-Tag:noindex
X-PUBLISHED-TTL:PT1H
BEGIN:VTIMEZONE
TZID:Europe/London
BEGIN:DAYLIGHT
TZOFFSETFROM:+0000
TZOFFSETTO:+0100
TZNAME:BST
DTSTART:20230326T010000
END:DAYLIGHT
BEGIN:STANDARD
TZOFFSETFROM:+0100
TZOFFSETTO:+0000
TZNAME:GMT
DTSTART:20231029T010000
END:STANDARD
BEGIN:DAYLIGHT
TZOFFSETFROM:+0000
TZOFFSETTO:+0100
TZNAME:BST
DTSTART:20240331T010000
END:DAYLIGHT
BEGIN:STANDARD
TZOFFSETFROM:+0100
TZOFFSETTO:+0000
TZNAME:GMT
DTSTART:20241027T010000
END:STANDARD
BEGIN:DAYLIGHT
TZOFFSETFROM:+0000
TZOFFSETTO:+0100
TZNAME:BST
DTSTART:20250330T010000
END:DAYLIGHT
BEGIN:STANDARD
TZOFFSETFROM:+0100
TZOFFSETTO:+0000
TZNAME:GMT
DTSTART:20251026T010000
END:STANDARD
END:VTIMEZONE
BEGIN:VEVENT
DTSTART;TZID=Europe/London:20240919T183000
DTEND;TZID=Europe/London:20240919T200000
DTSTAMP:20260425T191751
CREATED:20240826T154850Z
LAST-MODIFIED:20240826T154850Z
UID:8178-1726770600-1726776000@noalibis.com
SUMMARY:Ghosts of a Family by Edward Burke - Book Launch
DESCRIPTION:Ghosts of a Family : Ireland’s Most Infamous Unsolved Murder\, the Outbreak of the Civil War and the Origins of the Modern Troubles\nBy Edward Burke\n \nPlease RSVP to \ninfo@merrionpress.ie \nAt 1.20 a.m. on 24 March 1922\, five men\, four dressed in British police uniforms\, broke into the North Belfast house of Owen McMahon\, a well-known Catholic publican. They fatally shot McMahon\, four of his sons and Eddie McKinney\, an employee of the family. Nobody was ever charged for these ruthless and cold-blooded murders. \nIn retaliation for these and other Belfast murders\, the IRA assassinated the former head of the British Army\, Field Marshal Sir Henry Wilson\, and a subsequent British ultimatum to the Irish government sparked the first salvos of the Irish Civil War days later. The reluctance of the unionist Belfast government to pursue loyalist killers drove the rift between Northern Ireland’s two main communities even deeper\, laying the foundations for the Troubles at the end of the twentieth century. \nOver 100 years later\, Edward Burke has expertly uncovered the identity of the McMahons’ likely murderer. This is a riveting cold-case investigation that invokes the smoke-filled streets of Belfast during the cataclysmic violence of 1920–22\, and explores how the ramifications of the McMahon killings are still being felt to this day. \n\nABOUT THE AUTHOR\nDr Edward Burke is a historian at University College Dublin\, specialising in the study of political violence\, insurgencies and paramilitarism. His previous books are An Army of Tribes: British Army Cohesion\, Deviancy and Murder in Northern Ireland (Liverpool\, 2018) and Ulster’s Lost Counties: Loyalism and Paramilitarism since 1920 (Cambridge\, 2024). \n 
URL:https://noalibis.com/event/ghosts-of-a-family-by-edward-burke-book-launch/
LOCATION:No Alibis Bookstore\, 83 Botanic Avenue\, Belfast\, BT7 1JL\, United Kingdom
END:VEVENT
END:VCALENDAR